BEGIN:VCALENDAR
VERSION:2.0
PRODID:-//Contratero//ES
CALSCALE:GREGORIAN
METHOD:PUBLISH
BEGIN:VEVENT
UID:P.A.-T.S. 7/2025@contratero.es
DTSTAMP:20260424T221755Z
DTSTART:20251002T235959
DTEND:20251003T005959
SUMMARY:Cierre: Contrato de obras\, servicios y suministros por lot
DESCRIPTION:Contrato de obras\, servicios y suministros por lotes para la “Puesta en valor del Turismo Fluvial: Equipamientos de áreas recreativas fluviales” de aplicación en el desarrollo del Plan de Sostenibilid...\\n\\nOrganismo: Presidencia de la Comarca Ribera Baja del Ebro\\n\\nVer en Contratero: https://contratero.es/contracts/P.A.-T.S. 7/2025
URL:https://contratero.es/contracts/P.A.-T.S. 7/2025
STATUS:CONFIRMED
BEGIN:VALARM
TRIGGER:-P1D
ACTION:DISPLAY
DESCRIPTION:Recordatorio: Contrato de obras\, servicios y
END:VALARM
END:VEVENT
END:VCALENDAR